BEGIN:VCALENDAR
PRODID:-//eluceo/ical//2.0/EN
VERSION:2.0
CALSCALE:GREGORIAN
BEGIN:VEVENT
UID:fd84f09391d993129520e32a41aee2e3
DTSTAMP:20260422T100246Z
SUMMARY:Lunch
DESCRIPTION:
URL:https://rc-bern-rosengarten.ch/nl/agenda/show/16497
DTSTART;TZID=Europe/Zurich:20110110T120000
DTEND;TZID=Europe/Zurich:20110110T120000
LOCATION:Hotel Restaurant Bären Ostermundigen
CATEGORIES:Rotary
END:VEVENT
BEGIN:VTIMEZONE
TZID:Europe/Zurich
BEGIN:STANDARD
DTSTART:20110110T120000
TZNAME:CET
TZOFFSETTO:+0100
TZOFFSETFROM:+0100
END:STANDARD
END:VTIMEZONE
END:VCALENDAR
