BEGIN:VCALENDAR
PRODID:-//eluceo/ical//2.0/EN
VERSION:2.0
CALSCALE:GREGORIAN
BEGIN:VEVENT
UID:8cc0637259319b4617ba9ac975b515ba
DTSTAMP:20260422T093852Z
SUMMARY:Dinner
DESCRIPTION:Silvan Schläppi: Was ist Rotex?
URL:https://rc-bern-rosengarten.ch/nl/agenda/show/16296
DTSTART;TZID=Europe/Zurich:20110228T190000
DTEND;TZID=Europe/Zurich:20110228T190000
LOCATION:Hotel Restaurant Bären Ostermundigen
CATEGORIES:Rotary
END:VEVENT
BEGIN:VTIMEZONE
TZID:Europe/Zurich
BEGIN:STANDARD
DTSTART:20110228T190000
TZNAME:CET
TZOFFSETTO:+0100
TZOFFSETFROM:+0100
END:STANDARD
END:VTIMEZONE
END:VCALENDAR
