BEGIN:VCALENDAR
PRODID:-//eluceo/ical//2.0/EN
VERSION:2.0
CALSCALE:GREGORIAN
BEGIN:VEVENT
UID:b323a2b2dceab253fb412dfc5418434f
DTSTAMP:20260422T092126Z
SUMMARY:Info-Lunch
DESCRIPTION:Referat Kurt Brudermann\, Dir. AMAG Bern\, Thema: Zukunft des A
 utomobils
URL:https://rc-bern-rosengarten.ch/nl/agenda/show/15693
DTSTART;TZID=Europe/Zurich:20101108T120000
DTEND;TZID=Europe/Zurich:20101108T120000
LOCATION:Hotel Restaurant Bären Ostermundigen
CATEGORIES:Rotary
END:VEVENT
BEGIN:VTIMEZONE
TZID:Europe/Zurich
BEGIN:STANDARD
DTSTART:20101108T120000
TZNAME:CET
TZOFFSETTO:+0100
TZOFFSETFROM:+0100
END:STANDARD
END:VTIMEZONE
END:VCALENDAR
