BEGIN:VCALENDAR
PRODID:-//eluceo/ical//2.0/EN
VERSION:2.0
CALSCALE:GREGORIAN
BEGIN:VEVENT
UID:561a94e11edbfefc81bc4cf74ef09ceb
DTSTAMP:20260422T094431Z
SUMMARY:Dinner
DESCRIPTION:Referat von Rot. Walter Muggli\, Pastpräsident RC Bern\, zum T
 hema „Dampftram“
URL:https://rc-bern-rosengarten.ch/nl/agenda/show/14726
DTSTART;TZID=Europe/Zurich:20100823T190000
DTEND;TZID=Europe/Zurich:20100823T190000
LOCATION:Hotel Restaurant Bären Ostermundigen
CATEGORIES:Rotary
END:VEVENT
BEGIN:VTIMEZONE
TZID:Europe/Zurich
BEGIN:DAYLIGHT
DTSTART:20100823T190000
TZNAME:CEST
TZOFFSETTO:+0200
TZOFFSETFROM:+0200
END:DAYLIGHT
END:VTIMEZONE
END:VCALENDAR
