BEGIN:VCALENDAR
PRODID:-//eluceo/ical//2.0/EN
VERSION:2.0
CALSCALE:GREGORIAN
BEGIN:VEVENT
UID:7508fa10eeee7cd5d5956f7dc18270f7
DTSTAMP:20260422T092247Z
SUMMARY:Info-Lunch
DESCRIPTION:
URL:https://rc-bern-rosengarten.ch/nl/agenda/show/14107
DTSTART;TZID=Europe/Zurich:20100621T120000
DTEND;TZID=Europe/Zurich:20100621T120000
LOCATION:Hotel Restaurant Bären Ostermundigen
CATEGORIES:Rotary
END:VEVENT
BEGIN:VTIMEZONE
TZID:Europe/Zurich
BEGIN:DAYLIGHT
DTSTART:20100621T120000
TZNAME:CEST
TZOFFSETTO:+0200
TZOFFSETFROM:+0200
END:DAYLIGHT
END:VTIMEZONE
END:VCALENDAR
