BEGIN:VCALENDAR
PRODID:-//eluceo/ical//2.0/EN
VERSION:2.0
CALSCALE:GREGORIAN
BEGIN:VEVENT
UID:9e9bcce1d2ee9606a76c10fc7ddc59b7
DTSTAMP:20260420T124928Z
SUMMARY:Info-Lunch
DESCRIPTION:
URL:https://rc-bern-rosengarten.ch/nl/agenda/show/14106
DTSTART;TZID=Europe/Zurich:20100614T120000
DTEND;TZID=Europe/Zurich:20100614T120000
LOCATION:Hotel Restaurant Bären Ostermundigen
CATEGORIES:Rotary
END:VEVENT
BEGIN:VTIMEZONE
TZID:Europe/Zurich
BEGIN:DAYLIGHT
DTSTART:20100614T120000
TZNAME:CEST
TZOFFSETTO:+0200
TZOFFSETFROM:+0200
END:DAYLIGHT
END:VTIMEZONE
END:VCALENDAR
