BEGIN:VCALENDAR
PRODID:-//eluceo/ical//2.0/EN
VERSION:2.0
CALSCALE:GREGORIAN
BEGIN:VEVENT
UID:f7fa27ba7afafc28454cb0109a14aadd
DTSTAMP:20260422T094822Z
SUMMARY:Charterfeier
DESCRIPTION:Zu Informationen siehe die Homepage des Clubs
URL:https://rc-bern-rosengarten.ch/nl/agenda/show/13941
DTSTART;TZID=Europe/Zurich:20100501T140000
DTEND;TZID=Europe/Zurich:20100501T160000
LOCATION:-
CATEGORIES:Rotary
END:VEVENT
BEGIN:VTIMEZONE
TZID:Europe/Zurich
BEGIN:DAYLIGHT
DTSTART:20100501T140000
TZNAME:CEST
TZOFFSETTO:+0200
TZOFFSETFROM:+0200
END:DAYLIGHT
END:VTIMEZONE
END:VCALENDAR
