BEGIN:VCALENDAR
PRODID:-//eluceo/ical//2.0/EN
VERSION:2.0
CALSCALE:GREGORIAN
BEGIN:VEVENT
UID:d69a1d4317bce1264dfc17fffcf2cb0d
DTSTAMP:20260422T095229Z
SUMMARY:Pfingstmontag - kein Dinner
DESCRIPTION:
URL:https://rc-bern-rosengarten.ch/nl/agenda/show/13668
DTSTART;TZID=Europe/Zurich:20100524T000000
DTEND;TZID=Europe/Zurich:20100524T000000
LOCATION:-
CATEGORIES:Rotary
END:VEVENT
BEGIN:VTIMEZONE
TZID:Europe/Zurich
BEGIN:DAYLIGHT
DTSTART:20100524T000000
TZNAME:CEST
TZOFFSETTO:+0200
TZOFFSETFROM:+0200
END:DAYLIGHT
END:VTIMEZONE
END:VCALENDAR
