BEGIN:VCALENDAR
PRODID:-//eluceo/ical//2.0/EN
VERSION:2.0
CALSCALE:GREGORIAN
BEGIN:VEVENT
UID:a0d67614d57239b9949a9a5d617b5268
DTSTAMP:20260420T092248Z
SUMMARY:Dinner
DESCRIPTION:
URL:https://rc-bern-rosengarten.ch/de/agenda/show/17985
DTSTART;TZID=Europe/Zurich:20111121T190000
DTEND;TZID=Europe/Zurich:20111121T190000
LOCATION:Hotel Restaurant Bären Ostermundigen
CATEGORIES:Rotary
END:VEVENT
BEGIN:VTIMEZONE
TZID:Europe/Zurich
BEGIN:STANDARD
DTSTART:20111121T190000
TZNAME:CET
TZOFFSETTO:+0100
TZOFFSETFROM:+0100
END:STANDARD
END:VTIMEZONE
END:VCALENDAR
